BEGIN:VCALENDAR
VERSION:2.0
PRODID:-//Beacons Pottery - ECPv6.15.20//NONSGML v1.0//EN
CALSCALE:GREGORIAN
METHOD:PUBLISH
X-WR-CALNAME:Beacons Pottery
X-ORIGINAL-URL:https://beacons-pottery.co.uk
X-WR-CALDESC:Events for Beacons Pottery
REFRESH-INTERVAL;VALUE=DURATION:PT1H
X-Robots-Tag:noindex
X-PUBLISHED-TTL:PT1H
BEGIN:VTIMEZONE
TZID:Europe/London
BEGIN:DAYLIGHT
TZOFFSETFROM:+0000
TZOFFSETTO:+0100
TZNAME:BST
DTSTART:20210328T010000
END:DAYLIGHT
BEGIN:STANDARD
TZOFFSETFROM:+0100
TZOFFSETTO:+0000
TZNAME:GMT
DTSTART:20211031T010000
END:STANDARD
BEGIN:DAYLIGHT
TZOFFSETFROM:+0000
TZOFFSETTO:+0100
TZNAME:BST
DTSTART:20220327T010000
END:DAYLIGHT
BEGIN:STANDARD
TZOFFSETFROM:+0100
TZOFFSETTO:+0000
TZNAME:GMT
DTSTART:20221030T010000
END:STANDARD
BEGIN:DAYLIGHT
TZOFFSETFROM:+0000
TZOFFSETTO:+0100
TZNAME:BST
DTSTART:20230326T010000
END:DAYLIGHT
BEGIN:STANDARD
TZOFFSETFROM:+0100
TZOFFSETTO:+0000
TZNAME:GMT
DTSTART:20231029T010000
END:STANDARD
END:VTIMEZONE
BEGIN:VEVENT
DTSTART;TZID=Europe/London:20221113T120000
DTEND;TZID=Europe/London:20221113T160000
DTSTAMP:20260423T000458
CREATED:20221006T220325Z
LAST-MODIFIED:20221006T221004Z
UID:261-1668340800-1668355200@beacons-pottery.co.uk
SUMMARY:Beacons Pottery @ Llangoed Hall Christmas Market
DESCRIPTION:Find a whole new range of our Christmas products on display here.
URL:https://beacons-pottery.co.uk/event/beacons-pottery-llangoed-hall-christmas-market/
END:VEVENT
BEGIN:VEVENT
DTSTART;TZID=Europe/London:20221119T120000
DTEND;TZID=Europe/London:20221119T180000
DTSTAMP:20260423T000458
CREATED:20221006T220855Z
LAST-MODIFIED:20230921T181303Z
UID:263-1668859200-1668880800@beacons-pottery.co.uk
SUMMARY:Beacons Pottery @ Brecon With Bells On
DESCRIPTION:Looking for a Christmas gift for your special someone? Or fancy buying yourself a little something? \n\n\n\nFind Beacons Pottery in the marque with an assortment of pottery just for you.
URL:https://beacons-pottery.co.uk/event/beacons-pottery-brecon-with-bells-on/
END:VEVENT
BEGIN:VEVENT
DTSTART;TZID=Europe/London:20221120T120000
DTEND;TZID=Europe/London:20221120T160000
DTSTAMP:20260423T000458
CREATED:20221105T000905Z
LAST-MODIFIED:20221105T001541Z
UID:352-1668945600-1668960000@beacons-pottery.co.uk
SUMMARY:Beacons Pottery @ Llangoed Hall Christmas Market
DESCRIPTION:We’re Back Again! Find us at Llangoed Hall for our second Sunday in a row. \n\n\n\nAre you looking for a new ornament for you tree this year? Getting started early on your Christmas gift shopping? Or perhaps you just want to treat yourself… \n\n\n\nWe’ll have a wide range for you to choose from\, or just pop along to say hello\, we would love to meet you!
URL:https://beacons-pottery.co.uk/event/beacons-pottery-llangoed-hall/
END:VEVENT
END:VCALENDAR