BEGIN:VCALENDAR
VERSION:2.0
PRODID:-//Beacons Pottery - ECPv6.15.20//NONSGML v1.0//EN
CALSCALE:GREGORIAN
METHOD:PUBLISH
X-ORIGINAL-URL:https://beacons-pottery.co.uk
X-WR-CALDESC:Events for Beacons Pottery
REFRESH-INTERVAL;VALUE=DURATION:PT1H
X-Robots-Tag:noindex
X-PUBLISHED-TTL:PT1H
BEGIN:VTIMEZONE
TZID:Europe/London
BEGIN:DAYLIGHT
TZOFFSETFROM:+0000
TZOFFSETTO:+0100
TZNAME:BST
DTSTART:20230326T010000
END:DAYLIGHT
BEGIN:STANDARD
TZOFFSETFROM:+0100
TZOFFSETTO:+0000
TZNAME:GMT
DTSTART:20231029T010000
END:STANDARD
BEGIN:DAYLIGHT
TZOFFSETFROM:+0000
TZOFFSETTO:+0100
TZNAME:BST
DTSTART:20240331T010000
END:DAYLIGHT
BEGIN:STANDARD
TZOFFSETFROM:+0100
TZOFFSETTO:+0000
TZNAME:GMT
DTSTART:20241027T010000
END:STANDARD
BEGIN:DAYLIGHT
TZOFFSETFROM:+0000
TZOFFSETTO:+0100
TZNAME:BST
DTSTART:20250330T010000
END:DAYLIGHT
BEGIN:STANDARD
TZOFFSETFROM:+0100
TZOFFSETTO:+0000
TZNAME:GMT
DTSTART:20251026T010000
END:STANDARD
END:VTIMEZONE
BEGIN:VEVENT
DTSTART;TZID=Europe/London:20240309T093000
DTEND;TZID=Europe/London:20240309T160000
DTSTAMP:20260421T165902
CREATED:20240218T212515Z
LAST-MODIFIED:20240218T220408Z
UID:1714-1709976600-1710000000@beacons-pottery.co.uk
SUMMARY:Brecon Farmers & Makers Market
DESCRIPTION:My first event of the year\, just in time for Mother’s Day! \n\n\n\nVisit us at Brecon Farmer’s & Makers Market\, located in Brecon Market Hall\, to browse our range of pottery and some fresh local produce. You may just find the perfect gift.
URL:https://beacons-pottery.co.uk/event/brecon-farmers-makers-market/
END:VEVENT
END:VCALENDAR