BEGIN:VCALENDAR
VERSION:2.0
PRODID:-//Beacons Pottery - ECPv6.15.20//NONSGML v1.0//EN
CALSCALE:GREGORIAN
METHOD:PUBLISH
X-WR-CALNAME:Beacons Pottery
X-ORIGINAL-URL:https://beacons-pottery.co.uk
X-WR-CALDESC:Events for Beacons Pottery
REFRESH-INTERVAL;VALUE=DURATION:PT1H
X-Robots-Tag:noindex
X-PUBLISHED-TTL:PT1H
BEGIN:VTIMEZONE
TZID:Europe/London
BEGIN:DAYLIGHT
TZOFFSETFROM:+0000
TZOFFSETTO:+0100
TZNAME:BST
DTSTART:20230326T010000
END:DAYLIGHT
BEGIN:STANDARD
TZOFFSETFROM:+0100
TZOFFSETTO:+0000
TZNAME:GMT
DTSTART:20231029T010000
END:STANDARD
BEGIN:DAYLIGHT
TZOFFSETFROM:+0000
TZOFFSETTO:+0100
TZNAME:BST
DTSTART:20240331T010000
END:DAYLIGHT
BEGIN:STANDARD
TZOFFSETFROM:+0100
TZOFFSETTO:+0000
TZNAME:GMT
DTSTART:20241027T010000
END:STANDARD
BEGIN:DAYLIGHT
TZOFFSETFROM:+0000
TZOFFSETTO:+0100
TZNAME:BST
DTSTART:20250330T010000
END:DAYLIGHT
BEGIN:STANDARD
TZOFFSETFROM:+0100
TZOFFSETTO:+0000
TZNAME:GMT
DTSTART:20251026T010000
END:STANDARD
END:VTIMEZONE
BEGIN:VEVENT
DTSTART;TZID=Europe/London:20240427T100000
DTEND;TZID=Europe/London:20240428T170000
DTSTAMP:20260421T151110
CREATED:20240218T213543Z
LAST-MODIFIED:20240218T213641Z
UID:1718-1714212000-1714323600@beacons-pottery.co.uk
SUMMARY:A Taste of Wales - Spring Festival
DESCRIPTION:Come visit us at the National Botanic Garden of Wales for this 2 day event. We will have a stall in the greenhouse\, with a unique range of plant pots and other handmade items to have a look at. \n\n\n\nThere will be food\, drink\, art and crafts\, artisans and makers of Wales and the Borders with a wide range of stalls! \n\n\n\nThere will be fun for all the family with music\, archery and circus skills. \n\n\n\nIt will also be a doggy weekend so bring your four legged friend to explore the Botanic Garden and have a go at the dog agility course.
URL:https://beacons-pottery.co.uk/event/a-taste-of-wales-spring-festival/
END:VEVENT
END:VCALENDAR